BEGIN:VCALENDAR
VERSION:2.0
PRODID:-//CERN//INDICO//EN
BEGIN:VEVENT
SUMMARY:Sustainable Cooling for Big Science: Future-Proof Solutions Beyond
  PFAS
DTSTART:20260602T100000Z
DTEND:20260602T160000Z
DTSTAMP:20260421T161900Z
UID:indico-event-24940@indico.gsi.de
CONTACT:m.bauer@gsi.de\;s.schwarz@gsi.de
DESCRIPTION:Speakers: Martina Bauer (GSI Helmholtzzentrum für Schwerionen
 forschung GmbH(GSI))\, Simone Schwarz (GSI Helmholtzzentrum für Schwerion
 enforschung GmbH(GSI))\, Fredrik Strengbohm (Assemblin)\, Jörgen Rogstam 
 (EKAnalysis)\n\nhttps://indico.gsi.de/event/24940/
LOCATION:KBW lecture hall (GSI)
URL:https://indico.gsi.de/event/24940/
END:VEVENT
END:VCALENDAR
