BEGIN:VCALENDAR
VERSION:2.0
PRODID:-//CERN//INDICO//EN
BEGIN:VEVENT
SUMMARY:Phd Thesis 2026
DTSTART:20261231T070000Z
DTEND:20261231T190000Z
DTSTAMP:20260420T011300Z
UID:indico-event-24919@indico.gsi.de
DESCRIPTION:https://indico.gsi.de/event/24919/
URL:https://indico.gsi.de/event/24919/
END:VEVENT
END:VCALENDAR
