BEGIN:VCALENDAR
VERSION:2.0
PRODID:-//CERN//INDICO//EN
BEGIN:VEVENT
SUMMARY:Master\, Diploma\, Bachelor 2026
DTSTART:20261231T070000Z
DTEND:20261231T190000Z
DTSTAMP:20260420T011200Z
UID:indico-event-24918@indico.gsi.de
DESCRIPTION:https://indico.gsi.de/event/24918/
URL:https://indico.gsi.de/event/24918/
END:VEVENT
END:VCALENDAR
