BEGIN:VCALENDAR
VERSION:2.0
PRODID:-//CERN//INDICO//EN
BEGIN:VEVENT
SUMMARY:HEPTrepreneurs Episode 22
DTSTART:20260616T140000Z
DTEND:20260616T150000Z
DTSTAMP:20260421T142700Z
UID:indico-event-24871@indico.gsi.de
CONTACT:startup@gsi.de
DESCRIPTION:Speakers: Linn Kretzschmar (CERN)\n\n \nHEPTrepreneurs is the
  online series of events organised by HEPTech and GSI in collaboration wi
 th CERN dedicated to all members and partners of the network. The series 
 focusses of High Energy Physics Entrepreneurship and covers various themes
 . The inspirational and interactive talks\, round tables and keynotes are 
 made for all those interested in entrepreneurship\, but also for young 
 people who want to know more about alternatives careers to research and f
 or technology transfer officers looking for people to inspire. The meeting
 s will include a presentation\, a Q&A session and offers possibilities for
  networking.\n \nHEPTrepreneurs Episode 22\nType: Technical Talk/career o
 pportunity and Q&A.\nTitle: CERN Centure Connect\nSpeaker: Linn Kretzsch
 mar\, CERN\nAbout the speaker:\nLinn joined the Knowledge Transfer team at
  CERN in 2022 as a knowledge transfer officer\, responsible for transferri
 ng CERN technologies into Industry with focus on environmental application
 s. Since May 2024\, Linn has been responsible for CERN’s entrepreneurshi
 p activities and is coordinating the CERN Venture Connect program. Before 
 joining CERN\, Linn was a Marie Skłodowska-Curie researcher and lecturer 
 at the Vienna University of Economics and Business\, where she coordinated
  technology valorisation projects in collaboration with CERN\, other resea
 rch institutes and industrial partners. Among others\, she was responsible
  for carrying out valorisation assessments for CERN technologies for the F
 uture Circular Collider study.\nLinn's career includes roles as an innovat
 ion consultant and in business development\, where she developed her exper
 tise in technology and innovation management alongside entrepreneurship. S
 he holds a Master of Science in international management from Copenhagen B
 usiness School.\nContent of the webinar:\n \n \nFor better planning of t
 he event\, please register if possible via the link below.\n \nJoin Video
 conference:\n \n \nHEPTech: http://www.heptech.eu/\, https://www.linkedi
 n.com/company/66190639\nGSI / FAIR: https://www.gsi.de\, https://www.linke
 din.com/company/gsi-helmholtz-centre-for-heavy-ion-research/mycompany/\n 
 \n\n\n \n\nhttps://indico.gsi.de/event/24871/
URL:https://indico.gsi.de/event/24871/
END:VEVENT
END:VCALENDAR
