BEGIN:VCALENDAR
VERSION:2.0
PRODID:-//CERN//INDICO//EN
BEGIN:VEVENT
SUMMARY:Radiotherapy and the complement system
DTSTART:20261022T210000Z
DTEND:20261022T220000Z
DTSTAMP:20260426T022600Z
UID:indico-event-24854@indico.gsi.de
CONTACT:bio-sekretariat@gsi.de\;06159-71-2139
DESCRIPTION:Speakers: Monica Olcina del Molino (University of Oxford\, Dep
 artment of Oncology\, Immune Radiation Biology)\n\nhttps://indico.gsi.de/e
 vent/24854/
LOCATION:KBW-Hörsaal (GSI Helmholtzzentrum für Schwerionenforschung\, Da
 rmstadt)
URL:https://indico.gsi.de/event/24854/
END:VEVENT
END:VCALENDAR
