BEGIN:VCALENDAR
VERSION:2.0
PRODID:-//CERN//INDICO//EN
BEGIN:VEVENT
SUMMARY:Laser Spectroscopy of Muonic Hydrogen (prelim) [HYBRID]
DTSTART:20260429T120000Z
DTEND:20260429T130000Z
DTSTAMP:20260421T040600Z
UID:indico-event-24805@indico.gsi.de
CONTACT:ap-secr@gsi.de\;06159-71-1879
DESCRIPTION:Speakers: Elmer Gründeman (ETH Zürich)\n\n            
                                                  
   \n\nhttps://gsi-fair.zoom.us/j/63856816325Meeting-ID: 638 5681 6325Pass
 code: AP_Seminardial by phone+496938079884\,\,63856816325#\,\,\,\,*8527227
 260# Deutschland+496950500951\,\,63856816325#\,\,\,\,*8527227260# Deutschl
 and \n \n\nhttps://indico.gsi.de/event/24805/
LOCATION:KBW 2.027 & 638 5681 6325 (GSI & Zoom)
URL:https://indico.gsi.de/event/24805/
END:VEVENT
END:VCALENDAR
